BEGIN:VCALENDAR
VERSION:2.0
PRODID:-//Slash Culture - ECPv6.15.20//NONSGML v1.0//EN
CALSCALE:GREGORIAN
METHOD:PUBLISH
X-ORIGINAL-URL:https://slash-culture.com
X-WR-CALDESC:Évènements pour Slash Culture
REFRESH-INTERVAL;VALUE=DURATION:PT1H
X-Robots-Tag:noindex
X-PUBLISHED-TTL:PT1H
BEGIN:VTIMEZONE
TZID:Europe/Paris
BEGIN:DAYLIGHT
TZOFFSETFROM:+0100
TZOFFSETTO:+0200
TZNAME:CEST
DTSTART:20230326T010000
END:DAYLIGHT
BEGIN:STANDARD
TZOFFSETFROM:+0200
TZOFFSETTO:+0100
TZNAME:CET
DTSTART:20231029T010000
END:STANDARD
BEGIN:DAYLIGHT
TZOFFSETFROM:+0100
TZOFFSETTO:+0200
TZNAME:CEST
DTSTART:20240331T010000
END:DAYLIGHT
BEGIN:STANDARD
TZOFFSETFROM:+0200
TZOFFSETTO:+0100
TZNAME:CET
DTSTART:20241027T010000
END:STANDARD
BEGIN:DAYLIGHT
TZOFFSETFROM:+0100
TZOFFSETTO:+0200
TZNAME:CEST
DTSTART:20250330T010000
END:DAYLIGHT
BEGIN:STANDARD
TZOFFSETFROM:+0200
TZOFFSETTO:+0100
TZNAME:CET
DTSTART:20251026T010000
END:STANDARD
END:VTIMEZONE
BEGIN:VEVENT
DTSTART;VALUE=DATE:20241115
DTEND;VALUE=DATE:20241116
DTSTAMP:20260421T182240
CREATED:20241111T124358Z
LAST-MODIFIED:20241111T124718Z
UID:2244-1731628800-1731715199@slash-culture.com
SUMMARY:Big Bone en concert à l'Usine à Gaz
DESCRIPTION:Le vendredi 15 novembre\, à 22h\, Big Bone débarque à l’Usine à Gaz de Nyon. Un son puissant\, des riffs accrocheurs et la voix unique de Mik Clavet\, Big Bone ne fait pas dans la dentelle. Avec comme influences les douces mélodies de pelles mécaniques ou encore de rouleaux compresseurs\, le groupe sera en résidence à l’Usine à Gaz pour terminer le chantier avant de faire visiter leur nouvelle construction brute et singulière. Le power trio nyonnais n’attend que vous pour la visite et sont prêts à en découdre sur scène. \n  \n\n \n  \nInformations pratiques\nVendredi 15 novembre\, à 22h\nUsine à Gaz\, 1260 Nyon\nTarif unique : CHF 15.-\nwww.usineagaz.ch
URL:https://slash-culture.com/event/big-bone-usine-a-gaz/
LOCATION:Nyon\, Nyon\, 1260\, Switzerland
ATTACH;FMTTYPE=image/jpeg:https://slash-culture.com/wp-content/uploads/2024/11/big-bone-usine-a-gaz.jpg
END:VEVENT
END:VCALENDAR