BEGIN:VCALENDAR
VERSION:2.0
PRODID:-//Slash Culture - ECPv6.15.20//NONSGML v1.0//EN
CALSCALE:GREGORIAN
METHOD:PUBLISH
X-ORIGINAL-URL:https://slash-culture.com
X-WR-CALDESC:Évènements pour Slash Culture
REFRESH-INTERVAL;VALUE=DURATION:PT1H
X-Robots-Tag:noindex
X-PUBLISHED-TTL:PT1H
BEGIN:VTIMEZONE
TZID:Europe/Paris
BEGIN:DAYLIGHT
TZOFFSETFROM:+0100
TZOFFSETTO:+0200
TZNAME:CEST
DTSTART:20230326T010000
END:DAYLIGHT
BEGIN:STANDARD
TZOFFSETFROM:+0200
TZOFFSETTO:+0100
TZNAME:CET
DTSTART:20231029T010000
END:STANDARD
BEGIN:DAYLIGHT
TZOFFSETFROM:+0100
TZOFFSETTO:+0200
TZNAME:CEST
DTSTART:20240331T010000
END:DAYLIGHT
BEGIN:STANDARD
TZOFFSETFROM:+0200
TZOFFSETTO:+0100
TZNAME:CET
DTSTART:20241027T010000
END:STANDARD
BEGIN:DAYLIGHT
TZOFFSETFROM:+0100
TZOFFSETTO:+0200
TZNAME:CEST
DTSTART:20250330T010000
END:DAYLIGHT
BEGIN:STANDARD
TZOFFSETFROM:+0200
TZOFFSETTO:+0100
TZNAME:CET
DTSTART:20251026T010000
END:STANDARD
END:VTIMEZONE
BEGIN:VEVENT
DTSTART;VALUE=DATE:20241107
DTEND;VALUE=DATE:20241118
DTSTAMP:20260425T133711
CREATED:20241014T065243Z
LAST-MODIFIED:20241024T080802Z
UID:1974-1730937600-1731887999@slash-culture.com
SUMMARY:Ça commence par le feu
DESCRIPTION:Du jeudi 7 au dimanche 17 novembre\, le Théâtre Populaire Romand (TPR) de La Chaux-de-Fonds présente sa nouvelle création “Ça commence par le feu”. Une bande de jeunes aux désirs ardents prend la tangente sur fond d’odeur d’essence. Une balade hallucinée entre forêts et bitume orchestrée par Anne Bisang et Camille de Pietro. \nÀ propos de Ça commence par le feu \n\nNovembre 1989. La chute du mur de Berlin. Les échecs des premiers sommets pour le climat. Une petite agglomération urbaine du massif jurassien. Dans ce décor rural\, l’auteure nous invite à suivre Jean-Loup\, Marina\, Monette et tous les autres… Cette bande de jeunes\, aux désirs ardents\, prend la tangente sur fond d’odeur d’essence. Une étincelle\, des flammes\, un brasier : la révolte couve sous les cendres. Le sentiment de se faire enfumer… L’idée de brûler la ville par les deux bouts germe dans les abribus taggés. « Ça commence par le feu ».  A ce moment de l’histoire\, la mythologie du progrès s’estompe\, les utopies s’effilochent\, le monde chancelle. La petite collectivité rurale doute\, s’inquiète\, se confronte à ses différences\, cherche à exorciser ses peurs par des rituels.  \nL’auteure Magali Mougel nous invite à visiter ce monde pas si lointain\, une époque où tout aurait pu basculer\, nous dit-elle. Elle brosse les portraits aiguisés et sensibles d’une jeunesse qui\, à défaut d’avoir changé le monde\, a changé de monde. Pas d’arrêt sur image\, pas d’accablement mais au contraire\, beaucoup d’humanité et de questions vibrantes et incandescentes. Ce spectacle polyphonique entre théâtre et cinéma réunit Anne Bisang et Camille de Pietro dans une invitation au voyage. Une forme d’introspection collective sur ce que nous avons été\, ce que nous aurions pu être et ce que nous pourrions devenir et réinventer ensemble. Embrasement immédiat ! \n  \n\nhttp://slash-culture.com/wp-content/uploads/2024/10/TPR_teaser_Ca_commence_par_le_feu_05.mp4\n  \nInformations pratiques\nJeudi 7 novembre 2024\, 19h15\nVendredi 8 novembre 2024\, 20h15\nSamedi 9 novembre 2024\, 18h15\nDimanche 10 novembre 2024\, 17h15\nJeudi 14 novembre 2024\, 19h15\nVendredi 15 novembre 2024\, 20h15\nSamedi 16 novembre 2024\, 18h15\nDimanche 17 novembre 2024\, 17h15 \nTPR – Beau-Site\nRue de Beau-Site 30\, 2300 La Chaux-de-Fonds\n+41 32 912 57 70 \nInformations et réservations sur www.tpr.ch
URL:https://slash-culture.com/event/tpr-ca-commence-par-le-feu/
LOCATION:TPR – La Chaux-de-Fonds\, Rue de Beau-Site 30\, La Chaux-de-Fonds\, 2300\, Switzerland
ATTACH;FMTTYPE=image/jpeg:https://slash-culture.com/wp-content/uploads/2024/10/TPR-ca-commence-par-le-feu-chaux-de-fonds-slash-culture.jpg
ORGANIZER;CN="TPR Th%C3%A9%C3%A2tre Populaire Romand":MAILTO:billet@tpr.ch
END:VEVENT
END:VCALENDAR