BEGIN:VCALENDAR
VERSION:2.0
PRODID:-//Slash Culture - ECPv6.15.20//NONSGML v1.0//EN
CALSCALE:GREGORIAN
METHOD:PUBLISH
X-WR-CALNAME:Slash Culture
X-ORIGINAL-URL:https://slash-culture.com
X-WR-CALDESC:Évènements pour Slash Culture
REFRESH-INTERVAL;VALUE=DURATION:PT1H
X-Robots-Tag:noindex
X-PUBLISHED-TTL:PT1H
BEGIN:VTIMEZONE
TZID:Europe/Paris
BEGIN:DAYLIGHT
TZOFFSETFROM:+0100
TZOFFSETTO:+0200
TZNAME:CEST
DTSTART:20230326T010000
END:DAYLIGHT
BEGIN:STANDARD
TZOFFSETFROM:+0200
TZOFFSETTO:+0100
TZNAME:CET
DTSTART:20231029T010000
END:STANDARD
BEGIN:DAYLIGHT
TZOFFSETFROM:+0100
TZOFFSETTO:+0200
TZNAME:CEST
DTSTART:20240331T010000
END:DAYLIGHT
BEGIN:STANDARD
TZOFFSETFROM:+0200
TZOFFSETTO:+0100
TZNAME:CET
DTSTART:20241027T010000
END:STANDARD
BEGIN:DAYLIGHT
TZOFFSETFROM:+0100
TZOFFSETTO:+0200
TZNAME:CEST
DTSTART:20250330T010000
END:DAYLIGHT
BEGIN:STANDARD
TZOFFSETFROM:+0200
TZOFFSETTO:+0100
TZNAME:CET
DTSTART:20251026T010000
END:STANDARD
END:VTIMEZONE
BEGIN:VEVENT
DTSTART;VALUE=DATE:20240906
DTEND;VALUE=DATE:20240907
DTSTAMP:20260422T051858
CREATED:20240821T103408Z
LAST-MODIFIED:20240821T103408Z
UID:1621-1725580800-1725667199@slash-culture.com
SUMMARY:Les rencontres littéraires - Grégory Cingal
DESCRIPTION:Le vendredi 6 septembre\, à 18h\, le public est invité à la librairie Le Temps d’un livre pour découvrir Grégory Cingal à l’occasion de la parution de son nouveau roman : Les derniers sur la liste\, paru chez Grasset. L’auteur s’entretiendra avec Yann Courtiau\, libraire. \nInformations pratiques\nLe Temps d’un livre\, 13 rue du Roveray\, 1207 Genève\nTarif : entrée libre\nwww.letempsdunlivre.ch
URL:https://slash-culture.com/event/rencontres-litteraires-gregory-cingal/
LOCATION:Genève\, Genève\, Suisse
ATTACH;FMTTYPE=image/jpeg:https://slash-culture.com/wp-content/uploads/2024/08/gregory-cingal-rencontres-litteraires.jpg
END:VEVENT
END:VCALENDAR