BEGIN:VCALENDAR
VERSION:2.0
PRODID:-//Slash Culture - ECPv6.15.20//NONSGML v1.0//EN
CALSCALE:GREGORIAN
METHOD:PUBLISH
X-ORIGINAL-URL:https://slash-culture.com
X-WR-CALDESC:Évènements pour Slash Culture
REFRESH-INTERVAL;VALUE=DURATION:PT1H
X-Robots-Tag:noindex
X-PUBLISHED-TTL:PT1H
BEGIN:VTIMEZONE
TZID:Europe/Paris
BEGIN:DAYLIGHT
TZOFFSETFROM:+0100
TZOFFSETTO:+0200
TZNAME:CEST
DTSTART:20230326T010000
END:DAYLIGHT
BEGIN:STANDARD
TZOFFSETFROM:+0200
TZOFFSETTO:+0100
TZNAME:CET
DTSTART:20231029T010000
END:STANDARD
BEGIN:DAYLIGHT
TZOFFSETFROM:+0100
TZOFFSETTO:+0200
TZNAME:CEST
DTSTART:20240331T010000
END:DAYLIGHT
BEGIN:STANDARD
TZOFFSETFROM:+0200
TZOFFSETTO:+0100
TZNAME:CET
DTSTART:20241027T010000
END:STANDARD
BEGIN:DAYLIGHT
TZOFFSETFROM:+0100
TZOFFSETTO:+0200
TZNAME:CEST
DTSTART:20250330T010000
END:DAYLIGHT
BEGIN:STANDARD
TZOFFSETFROM:+0200
TZOFFSETTO:+0100
TZNAME:CET
DTSTART:20251026T010000
END:STANDARD
END:VTIMEZONE
BEGIN:VEVENT
DTSTART;VALUE=DATE:20241108
DTEND;VALUE=DATE:20241201
DTSTAMP:20260423T034030
CREATED:20241022T073741Z
LAST-MODIFIED:20241022T073845Z
UID:2056-1731024000-1733011199@slash-culture.com
SUMMARY:L’Amour sur un plateau par Défense d'Afficher Trélex
DESCRIPTION:La Troupe Défense d’Afficher Trélex présente L’Amour sur un plateau\, une pièce d’Isabelle Mergault\, mise en scène par Emmanuelle Gabard. \nCaroline et Jean-Louis mariés depuis de nombreuses années\, tiennent des chambres d’hôtes à la campagne. Leur couple s’essouffle et une rupture s’annonce lorsque Martha\, leur meilleure cliente\, décide de sauver leur amour en faisant appel à une célèbre productrice de téléréalité. L’auberge du couple se retrouve alors cernée par les caméras . Un véritable plateau de télé s’installe dans leur vie et le ménage se retrouve bouleversé. \n\n  \nInformations pratiques\n8 et 9 novembre 2024 – 20h00 à Crassier\n10 novembre 2024 – 17h00 à Crassier\n15 et 16 novembre 2024 – 20h00 à Bursins\n17 novembre 2024 – 17h00 à Bursins\n22 et 23 novembre 2024 – 20h00 à Trélex\n24 novembre 2024 – 17h00 à Trélex\n29 et 30 novembre 2024 – 19h30 à Lausanne\nwww.defensedafficher.ch
URL:https://slash-culture.com/event/defense-afficher-trelex/
LOCATION:Trélex\, Trélex\, 1270\, Switzerland
ATTACH;FMTTYPE=image/jpeg:https://slash-culture.com/wp-content/uploads/2024/10/defense-d-afficher-trelex-amour-sur-un-plateau.jpg
END:VEVENT
BEGIN:VEVENT
DTSTART;VALUE=DATE:20241127
DTEND;VALUE=DATE:20241209
DTSTAMP:20260423T034030
CREATED:20241022T092947Z
LAST-MODIFIED:20241022T092947Z
UID:2089-1732665600-1733702399@slash-culture.com
SUMMARY:L’Amante anglaise au Théâtre de Vidy
DESCRIPTION:Émilie Charriot rassemble trois comédiens exceptionnels\, Dominique Reymond\, Nicolas Bouchaud et Laurent Poitrenaux\, pour un texte majeur du répertoire théâtral francophone\, L’Amante anglaise de Marguerite Duras. L’autrice s’inspire d’un fait divers véridique: dans une petite ville\, une femme ordinaire assassine violemment son mari et jette nuit après nuit un morceau du corps sur des trains depuis un pont. La meurtrière avouera mais ne pourra s’expliquer son geste : au contraire\, elle questionne les enquêteurs\, comme pour comprendre. Marguerite Duras transforme le fait divers à la marge : c’est la servante du couple qui est assassinée. La romancière déplie un dialogue patient et introspectif entre cette femme\, un mari évanescent et un interrogateur mi-enquêteur mi-voix de l’autrice. Dans les silences de la parole\, elle écoute la répétition du quotidien\, les apparences bourgeoises\, le mensonge des sentiments\, l’énigme d’un geste fou\, le mystère d’une vie. \n\n  \nInformations pratiques\nDu 27 novembre au 8 décembre 2024\nSalle 64\, Charles Apothéloz\, Théâtre de Vidy\nwww.vidy.ch
URL:https://slash-culture.com/event/lamante-anglaise-au-theatre-de-vidy/
LOCATION:Lausanne\, Lausanne\, Suisse
ATTACH;FMTTYPE=image/jpeg:https://slash-culture.com/wp-content/uploads/2024/10/l-amante-anglaise-theatre-vidy.jpg
END:VEVENT
END:VCALENDAR