BEGIN:VCALENDAR
VERSION:2.0
PRODID:-//Slash Culture - ECPv6.15.20//NONSGML v1.0//EN
CALSCALE:GREGORIAN
METHOD:PUBLISH
X-ORIGINAL-URL:https://slash-culture.com
X-WR-CALDESC:Évènements pour Slash Culture
REFRESH-INTERVAL;VALUE=DURATION:PT1H
X-Robots-Tag:noindex
X-PUBLISHED-TTL:PT1H
BEGIN:VTIMEZONE
TZID:Europe/Paris
BEGIN:DAYLIGHT
TZOFFSETFROM:+0100
TZOFFSETTO:+0200
TZNAME:CEST
DTSTART:20240331T010000
END:DAYLIGHT
BEGIN:STANDARD
TZOFFSETFROM:+0200
TZOFFSETTO:+0100
TZNAME:CET
DTSTART:20241027T010000
END:STANDARD
BEGIN:DAYLIGHT
TZOFFSETFROM:+0100
TZOFFSETTO:+0200
TZNAME:CEST
DTSTART:20250330T010000
END:DAYLIGHT
BEGIN:STANDARD
TZOFFSETFROM:+0200
TZOFFSETTO:+0100
TZNAME:CET
DTSTART:20251026T010000
END:STANDARD
BEGIN:DAYLIGHT
TZOFFSETFROM:+0100
TZOFFSETTO:+0200
TZNAME:CEST
DTSTART:20260329T010000
END:DAYLIGHT
BEGIN:STANDARD
TZOFFSETFROM:+0200
TZOFFSETTO:+0100
TZNAME:CET
DTSTART:20261025T010000
END:STANDARD
END:VTIMEZONE
BEGIN:VEVENT
DTSTART;VALUE=DATE:20250306
DTEND;VALUE=DATE:20250309
DTSTAMP:20260420T203056
CREATED:20250210T081308Z
LAST-MODIFIED:20250210T082744Z
UID:2848-1741219200-1741478399@slash-culture.com
SUMMARY:Hamlet au Théâtre Populaire Romand
DESCRIPTION:Du jeudi 6 au samedi 8 mars 2025\, le Théâtre Populaire Romand (TPR) accueille Hamlet\, la tragédie intemporelle de William Shakespeare\, revisitée et mise en scène par Christophe Sermet dans une adaptation incisive et captivante. \nRoyaume du Danemark. Chaque nuit\, le fantôme du roi assassiné hante le chemin de ronde\, réclamant vengeance. Son fils\, Hamlet\, érudit plus enclin à la réflexion qu’au combat\, se croit incapable d’agir. Pourtant\, pour démasquer son oncle\, usurpateur du trône et époux de sa mère\, il s’arme d’artifices : les mots pour différer\, la folie feinte pour investiguer\, le théâtre pour révéler la vérité. Mais nul n’échappe à son destin\, et sa quête de justice entraînera le royaume dans une spirale de violence inévitable… \nDans cette version épurée et percutante\, la langue de Shakespeare retrouve tout son souffle et sa flamboyance. Ce Hamlet\, sans ornement superflu\, ramène aux interrogations fondamentales de la pièce : comment le tragique se manifeste-t-il dans nos vies ? Quelle part de nous se dissimule derrière les apparences et les conventions ? Sommes-nous condamnés à répéter les erreurs du passé ? \nUn huis clos envoûtant\, à la puissance dramatique rarement inégalée\, à découvrir du 6 au 8 mars au Théâtre Populaire Romand de La Chaux-de-Fonds. \nAvec Adrien Drumel\, François Gillerot\, Francesco Italiano\, Sarah Lefèvre\, Anne-Marie Loop\, Nathalie Mellinger\, Mathilde Rault\, Fabrice Rodriguez\, Zoé Schellenberg et Alexandre Trocki. \n  \n\nInformations pratiques\n \nHoraires\nJeudi 6 mars 2025 à 14h15\nVendredi 7 mars 2025 à 20h15\nSamedi 8 mars 2025 à 18h15 \nAdresse\nL’Heure bleue\nAvenue Léopold-Robert 27\n2300 La Chaux-de-Fonds \nRéservez vos places : TPR | Théâtre Populaire Romand | Hamlet \n  \n \nPhotos : Marc Debelle
URL:https://slash-culture.com/event/hamlet-shakespeare-tpr/
LOCATION:TPR – L’heure bleue\, Avenue Léopold-Robert 27\, La Chaux-de-Fonds\, 2300
ATTACH;FMTTYPE=image/webp:https://slash-culture.com/wp-content/uploads/2025/02/Hamlet-theatre-populaire-romand-slash-culture.webp
END:VEVENT
BEGIN:VEVENT
DTSTART;VALUE=DATE:20250307
DTEND;VALUE=DATE:20250324
DTSTAMP:20260420T203056
CREATED:20250208T195513Z
LAST-MODIFIED:20250213T114122Z
UID:2844-1741305600-1742774399@slash-culture.com
SUMMARY:La pucelle est enceinte par Crassier en Scène
DESCRIPTION:L’association Crassier en scène présente “La pucelle est enceinte”\, une comédie déjantée mise en scène par Michel Boillet. \nLa pucelle est enceinte est une comédie délirante et moyenâgeuse entièrement écrite à la plume d’oie ! Rien ne va plus dans le royaume du roi Roger. La guerre avec son voisin\, le roi Hector\, n’en finit pas. Sa femme Mathilde\, prisonnière de sa ceinture de chasteté dont on a perdu la clé\, veut le quitter. Sa fille Roxanne\, unique et chérie\, naïve et vierge\, n’est désespérément toujours pas mariée. Gwendoline\, la suivante arrogante\, n’a pas sa langue dans sa poche. Gandulf\, valet un peu benêt\, sème la zizanie et la sorcière Georgette\, 896 ans\, lanceuse de sorts\, vient s’en mêler. \nAvec : Anthony Berchten\, Emmanuelle Gabard\, Jeanne-Marie Martinez\, Nicole Menthonnex\, Daniel Nasr et Nadine Soguel. \n  \n\nInformations pratiques\n \nHoraires\nVendredi 07 mars – 20h30\nSamedi 08 mars – 20h30\nDimanche 09 mars – 17h\nVendredi 14 mars – 20h30\nSamedi 15 mars – 20h30\nDimanche 16 mars – 17h\nVendredi 21 mars – 20h30\nSamedi 22 mars – 20h30\nDimanche 23 mars – 17h \nAdresse\nSalle communale de Crassier\nPlace du Lien\, 1263 Crassier \nwww.crassierenscene.ch
URL:https://slash-culture.com/event/la-pucelle-est-enceinte/
LOCATION:Crassier\, Crassier\, 1263\, Switzerland
ATTACH;FMTTYPE=image/jpeg:https://slash-culture.com/wp-content/uploads/2025/02/crassier-en-scene-la-pucelle-est-enceinte-anthony-berchten.jpg
END:VEVENT
END:VCALENDAR