BEGIN:VCALENDAR
VERSION:2.0
PRODID:-//Slash Culture - ECPv6.15.20//NONSGML v1.0//EN
CALSCALE:GREGORIAN
METHOD:PUBLISH
X-ORIGINAL-URL:https://slash-culture.com
X-WR-CALDESC:Évènements pour Slash Culture
REFRESH-INTERVAL;VALUE=DURATION:PT1H
X-Robots-Tag:noindex
X-PUBLISHED-TTL:PT1H
BEGIN:VTIMEZONE
TZID:Europe/Paris
BEGIN:DAYLIGHT
TZOFFSETFROM:+0100
TZOFFSETTO:+0200
TZNAME:CEST
DTSTART:20240331T010000
END:DAYLIGHT
BEGIN:STANDARD
TZOFFSETFROM:+0200
TZOFFSETTO:+0100
TZNAME:CET
DTSTART:20241027T010000
END:STANDARD
BEGIN:DAYLIGHT
TZOFFSETFROM:+0100
TZOFFSETTO:+0200
TZNAME:CEST
DTSTART:20250330T010000
END:DAYLIGHT
BEGIN:STANDARD
TZOFFSETFROM:+0200
TZOFFSETTO:+0100
TZNAME:CET
DTSTART:20251026T010000
END:STANDARD
BEGIN:DAYLIGHT
TZOFFSETFROM:+0100
TZOFFSETTO:+0200
TZNAME:CEST
DTSTART:20260329T010000
END:DAYLIGHT
BEGIN:STANDARD
TZOFFSETFROM:+0200
TZOFFSETTO:+0100
TZNAME:CET
DTSTART:20261025T010000
END:STANDARD
END:VTIMEZONE
BEGIN:VEVENT
DTSTART;VALUE=DATE:20250430
DTEND;VALUE=DATE:20250507
DTSTAMP:20260420T135608
CREATED:20250429T123248Z
LAST-MODIFIED:20250429T124129Z
UID:3066-1745971200-1746575999@slash-culture.com
SUMMARY:À propos du Pommier à Neuchâtel
DESCRIPTION:Dominique Gilliot raconte avec humour et poésie l’histoire du Théâtre Le Pommier à Neuchâtel dans un spectacle unique et immersif\, mêlant anecdotes\, archives et rencontres. \nA la façon d’un documentaire « gonzo »\, l’artiste Dominique Gilliot vous raconte l’histoire drôle\, poétique et complètement subjective de votre théâtre de poche préféré : Le Pommier\, à Neuchâtel ! Comment un lieu agit-il sur l’artiste qui y travaille et vient à en affecter la création ? Jusqu’à quel point ? Et si un·x·e artiste décidait de travailler non seulement dans un lieu\, mais sur un lieu\, pour un lieu\, en se laissant imprégner par ce qu’il s’y vit au jour le jour ? Durant une année\, Dominique a ainsi effectué plusieurs résidences à Neuchâtel\, pour nourrir d’anecdotes\, d’archives\, d’objets trouvés\, d’accidents et de rencontres ce spectacle qui ne sera plus jamais joué ailleurs\, puisqu’il ne peut se jouer que « dans » le sujet-même du spectacle ! \nEntre pop-culture et pop-philosophie\, Dominique Gilliot développe un travail qui déconstruit avec humour et poésie certains codes et certaines valeurs qui paraissent aller de soi. Iel a performé dans de nombreux lieux d’art contemporain en France (Centre Pompidou Paris\, Jeu de Paume\, Subsistances à Lyon\, Friche de la Belle de Mai à Marseille\, etc.) et à l’étranger. Depuis quelques années\, iel a transporté sa pratique performative vers le spectacle vivant. Iel est artiste associé·e à la Ménagerie de Verre en 2019 avec les spectacles À propos de…\, Différentes choses\, puis France Anodine en co-écriture avec Juliette Chaigneau et Antoine Pesle. \nDimanche 4 mai à l’issue de la représentation : bord de scène avec Dominique Gilliot\, Jacques Rossat – ancien Président et actuel Membre d’honneur de la Fondation du Centre Culturel Neuchâtelois – et Gilbert Pingeon – écrivain et Membre historique de la Fondation du CCN. \n  \nHoraires \n\nDu 30 avril au 6 mai 2025 \nTarif\nPlein tarif : CHF 25.-\nAVS\, AI\, chômeurs : CHF 17.-\nEtudiants : CHF 15.- \nAdresse\nLe Pommier\nRue du pommier 9 – 2000 Neuchâtel \nwww.lepommier.ch
URL:https://slash-culture.com/event/a-propos-pommier-neuchatel/
LOCATION:Neuchâtel\, Neuchâtel\, Suisse
ATTACH;FMTTYPE=image/jpeg:https://slash-culture.com/wp-content/uploads/2025/04/a-propos-le-pommier-neuchatel-slash-culture.jpg
END:VEVENT
END:VCALENDAR